BEGIN:VCALENDAR
VERSION:2.0
PRODID:-//Louisiana Metabolic Disorders Coalition - ECPv6.15.3//NONSGML v1.0//EN
CALSCALE:GREGORIAN
METHOD:PUBLISH
X-WR-CALNAME:Louisiana Metabolic Disorders Coalition
X-ORIGINAL-URL:https://louisianamdc.org
X-WR-CALDESC:Events for Louisiana Metabolic Disorders Coalition
REFRESH-INTERVAL;VALUE=DURATION:PT1H
X-Robots-Tag:noindex
X-PUBLISHED-TTL:PT1H
BEGIN:VTIMEZONE
TZID:UTC
BEGIN:STANDARD
TZOFFSETFROM:+0000
TZOFFSETTO:+0000
TZNAME:UTC
DTSTART:20240101T000000
END:STANDARD
END:VTIMEZONE
BEGIN:VEVENT
DTSTART;TZID=UTC:20240113T120000
DTEND;TZID=UTC:20240113T150000
DTSTAMP:20260425T163925
CREATED:20231112T152810Z
LAST-MODIFIED:20240707T155245Z
UID:3250-1705147200-1705158000@louisianamdc.org
SUMMARY:Family Fun Day 2024
DESCRIPTION:[vc_row][vc_column][vc_column_text]Registration is open for our 2nd Annual Family Fun Day!!! The event is January 13th from 12-3 pm at Mandeville Sports Complex in Mandeville. It will be an afternoon of fun\, support\, and education for patients with metabolic disorders and their families.  The facility has a fun climbing/play area for the kids\, a bouncy castle\, and bouncy track. We will have crafts too! \nLunch will be provided with a low protein option courtesy of Ajinomoto Cambrooke. \nOur Sponsors\, Ajinomoto Cambrooke\, Nexus Medical Nutrition\, Nutricia\, and Synlogic\, will be there to share their products and answer questions. \nLook forward to seeing you![/vc_column_text][vc_column_text]REGISTER NOW! \nRegistration is closed.[/vc_column_text][/vc_column][/vc_row]
URL:https://louisianamdc.org/event/family-fun-day-2024/
CATEGORIES:LMDC Events
END:VEVENT
END:VCALENDAR