BEGIN:VCALENDAR
VERSION:2.0
PRODID:-//Louisiana Metabolic Disorders Coalition - ECPv6.15.3//NONSGML v1.0//EN
CALSCALE:GREGORIAN
METHOD:PUBLISH
X-ORIGINAL-URL:https://louisianamdc.org
X-WR-CALDESC:Events for Louisiana Metabolic Disorders Coalition
REFRESH-INTERVAL;VALUE=DURATION:PT1H
X-Robots-Tag:noindex
X-PUBLISHED-TTL:PT1H
BEGIN:VTIMEZONE
TZID:UTC
BEGIN:STANDARD
TZOFFSETFROM:+0000
TZOFFSETTO:+0000
TZNAME:UTC
DTSTART:20260101T000000
END:STANDARD
END:VTIMEZONE
BEGIN:VEVENT
DTSTART;TZID=UTC:20260110T120000
DTEND;TZID=UTC:20260110T150000
DTSTAMP:20260423T234516
CREATED:20251114T205013Z
LAST-MODIFIED:20251114T205346Z
UID:3577-1768046400-1768057200@louisianamdc.org
SUMMARY:Family Fun Day 2026
DESCRIPTION:[vc_row][vc_column width=”2/3″][vc_column_text css=””]Join us Saturday\, January 10th from 12-3:00 pm at Surge Entertainment by Drew Brees in Baton Rouge (5555 Burbank Dr) for our Family Fun Day. \nYou and your family will have hours of fun playing arcade games\, mini golf\, and laser tag. We will also have our own VIP bowling lanes. \nThis is a great opportunity to meet other metabolic disorder patients/families from LA/MS and talk with our sponsors regarding their products. We are thankful for the support of Cycle Pharma\, Nexus Patient Services\, PTC Therapeutics\, Vitaflo\, and Ajinomoto Cambrooke Foods. \nEach patient is welcome to bring up to four guests. Please register by Dec 29th .[/vc_column_text][vc_empty_space height=”25px”][vc_column_text css=””]REGISTER NOW! \nPatient First Name*Patient Last Name*Parent's First Name (if patient is a minor)Parent's Last Name (if patient is a minor)Address*City*State*Zip*Email*Phone*Number of Adults Attending*Number of Children AttendingPlease enter name and age of childPlease enter name and age of childPlease enter name and age of childPlease enter name and age of childDisorder*Do you need travel assistance?*YesNoPlease type the characters*This helps us prevent spam\, thank you. SendThis field should be left blank[/vc_column_text][/vc_column][vc_column width=”1/3″][vc_single_image image=”3576″ img_size=”large” onclick=”img_link_large” css=””][/vc_column][/vc_row][vc_row][vc_column][/vc_column][/vc_row]
URL:https://louisianamdc.org/event/family-fun-day-2026/
LOCATION:Surge Entertainment Center\, 5555 Burbank Dr\, Baton Rouge\, LA\, 70820\, United States
CATEGORIES:LMDC Events
END:VEVENT
BEGIN:VEVENT
DTSTART;TZID=UTC:20260419T100000
DTEND;TZID=UTC:20260419T100000
DTSTAMP:20260423T234516
CREATED:20260323T013139Z
LAST-MODIFIED:20260323T013139Z
UID:3616-1776592800-1776592800@louisianamdc.org
SUMMARY:Strawberry Picking at Mrs. Heather’s Strawberry Farm 2026
DESCRIPTION:[vc_row][vc_column width=”1/2″][vc_column_text css=”.vc_custom_1774229368509{margin-bottom: 20px !important;border-bottom-width: 1px !important;padding-bottom: 25px !important;border-bottom-style: solid !important;border-color: #d8d8d8 !important;}”]Join us at Mrs. Heather’s Strawberry Farm on Sunday\, April 19\, 2026\, at 10am for strawberry picking. Each family will receive a complimentary container to pick berries. There are also fun activities for the kids: face painting\, bouncing race horse\, jumping pillow\, play area\, and more!!![/vc_column_text][vc_column_text] \nREGISTER NOW!\n[/vc_column_text][vc_column_text]Patient First Name*Patient Last Name*Parent's First Name (if patient is a minor)Parent's Last Name (if patient is a minor)Address*City*State*Zip*Email*Phone*Patient's disorder*Number of Family Members attending (including patient)*Guest #1 t-shirt sizeAdult small Adult mediumAdult largeAdult XLAdult 2XLAdult 3XLYouth smallYouth mediumYouth largeYouth XLGuest #2 t-shirt sizeAdult small Adult mediumAdult largeAdult XLAdult 2XLAdult 3XLYouth smallYouth mediumYouth largeYouth XLGuest #3 t-shirt sizeAdult small Adult mediumAdult largeAdult XLAdult 2XLAdult 3XLYouth smallYouth mediumYouth largeYouth XLGuest #4 t-shirt sizeAdult small Adult mediumAdult largeAdult XLAdult 2XLAdult 3XLYouth smallYouth mediumYouth largeYouth XLGuest #5 t-shirt sizeAdult small Adult mediumAdult largeAdult XLAdult 2XLAdult 3XLYouth smallYouth mediumYouth largeYouth XLGuest #6 t-shirt sizeAdult small Adult mediumAdult largeAdult XLAdult 2XLAdult 3XLYouth smallYouth mediumYouth largeYouth XLPlease type the characters*This helps us prevent spam\, thank you. SendThis field should be left blank[/vc_column_text][/vc_column][vc_column width=”1/2″][vc_single_image image=”3615″ img_size=”large” css=””][/vc_column][/vc_row]
URL:https://louisianamdc.org/event/strawberry-picking-at-mrs-heathers-strawberry-farm-2026/
LOCATION:Mrs. Heather’s Strawberry Farm\, 31458 LA-43\, Albany\, 70711\, United States
CATEGORIES:LMDC Events
END:VEVENT
END:VCALENDAR